BEGIN:VCALENDAR
VERSION:2.0
PRODID:-//ChamberMaster//Event Calendar 2.0//EN
METHOD:PUBLISH
X-PUBLISHED-TTL:P3D
REFRESH-INTERVAL:P3D
CALSCALE:GREGORIAN
BEGIN:VEVENT
DTSTART:20180227T221500Z
DTEND:20180227T233000Z
X-MICROSOFT-CDO-ALLDAYEVENT:FALSE
SUMMARY:Orange County Commission District 4: Women's Night of Networking
DESCRIPTION:Network\, Promote & Learn\n\nfrom other women in business!\n\n\n\nNight's of Networking will be held monthly.
X-ALT-DESC;FMTTYPE=text/html:<div>Network\, Promote &amp\; Learn<br />\nfrom other women in business!<br />\n<br />\nNight&#39\;s of Networking will be held monthly.</div>\n
LOCATION:East Orange Community Center 12050 East Colonial Drive Orlando\, FL 32826
UID:e.2008.8650
SEQUENCE:3
DTSTAMP:20260424T234950Z
URL:https://business.eocc.org/events/details/orange-county-commission-district-4-women-s-night-of-networking-8650
END:VEVENT

END:VCALENDAR
