BEGIN:VCALENDAR
VERSION:2.0
PRODID:-//ChamberMaster//Event Calendar 2.0//EN
METHOD:PUBLISH
X-PUBLISHED-TTL:P3D
REFRESH-INTERVAL:P3D
CALSCALE:GREGORIAN
BEGIN:VEVENT
DTSTART:20160423T180000Z
DTEND:20160423T200000Z
X-MICROSOFT-CDO-ALLDAYEVENT:FALSE
SUMMARY:Orlando Muscle Walk
DESCRIPTION:Come join the Muscular Dystrophy Association on April 23rd for the biggest community event to raise money and awareness for muscle disease! The muscle walk is a festival and walk in Celebration\, FL\, open to MDA families and our Central Florida community to come together. It?s a fun filled day to meet others\, get resources\, and help join us in our fight to find a cure for muscle disease. Register TODAY at www.musclewalkmda.org/orlando2016
X-ALT-DESC;FMTTYPE=text/html:Come join the Muscular Dystrophy Association on April 23rd for the biggest community event to raise money and awareness for muscle disease! The muscle walk is a festival and walk in Celebration\, FL\, open to MDA families and our Central Florida community to come together. It?s a fun filled day to meet others\, get resources\, and help join us in our fight to find a cure for muscle disease. Register TODAY at www.musclewalkmda.org/orlando2016
LOCATION:Lakeside Park\, Celebration FL - 631 Sycamore St\, Celebration\, FL 34747
UID:e.2008.4342
SEQUENCE:3
DTSTAMP:20260424T175028Z
URL:https://business.eocc.org/events/details/orlando-muscle-walk-04-23-2016-4342
END:VEVENT

END:VCALENDAR
