BEGIN:VCALENDAR
VERSION:2.0
PRODID:-//ChamberMaster//Event Calendar 2.0//EN
METHOD:PUBLISH
X-PUBLISHED-TTL:P3D
REFRESH-INTERVAL:P3D
CALSCALE:GREGORIAN
BEGIN:VEVENT
DTSTART:20161129T170000Z
DTEND:20161129T170000Z
X-MICROSOFT-CDO-ALLDAYEVENT:FALSE
SUMMARY:Pre-Diabetes Lunch & Learn
DESCRIPTION:Join your Florida Blue Neighborhood Nurses for this Lunch & Learn to understand more about pre-diabetes\, risk factors and how to prevent diabetes. Complimentary lunch provided\, please RSVP.
X-ALT-DESC;FMTTYPE=text/html:Join your Florida Blue Neighborhood Nurses for this Lunch &amp\; Learn to understand more about pre-diabetes\, risk factors and how to prevent diabetes. Complimentary lunch provided\, please RSVP.
LOCATION:Florida Blue Center 434 N. Orlando Ave. Winter Park\, FL 32789
UID:e.2008.5368
SEQUENCE:3
DTSTAMP:20260425T162121Z
URL:https://business.eocc.org/events/details/pre-diabetes-lunch-learn-5368
END:VEVENT

END:VCALENDAR
