BEGIN:VCALENDAR
VERSION:2.0
PRODID:-//ChamberMaster//Event Calendar 2.0//EN
METHOD:PUBLISH
X-PUBLISHED-TTL:P3D
REFRESH-INTERVAL:P3D
CALSCALE:GREGORIAN
BEGIN:VEVENT
DTSTART:20211120T120000Z
DTEND:20211120T150000Z
X-MICROSOFT-CDO-ALLDAYEVENT:FALSE
SUMMARY:Ruck Sack Race 5K
DESCRIPTION:The Ruck Sack Race in Orlando will be a 5k walk\, run\, or ruck through Sea World. This event is family friendly and offers the opportunity to wear a military ruck sack during the race so you can "walk\, run\, or ruck a mile in their boots".\n\nAll proceeds will go to the Camaraderie Foundation. We provide healing for the "invisible wounds of war" through counseling\, emotional and spiritual support for Post 9/11 Veterans\, Service Members and their families.\n\nParticipants in this Ruck Sack Race will receive the following benefits:\n\n\n	Unique Finishing Medal\n	Race Shirt\n	Discount code for tickets to Sea World Orlando\n	Opportunity to win an award medal as a top 3 finisher in the Male/Female and Male/Female Ruck Sack Warrior categories\n\nRegistration opens at 6AM and race begins at 7AM. \n\nFor more information or to register visit: https://runsignup.com/Race/FL/Orlando/RSRORL
X-ALT-DESC;FMTTYPE=text/html:<p>The&nbsp\;<strong>Ruck Sack Race</strong>&nbsp\;in Orlando will be a 5k walk\, run\, or ruck through Sea World. This event is family friendly and offers the opportunity to wear a military ruck sack during the race so you can &quot\;walk\, run\, or ruck a mile in their boots&quot\;.</p>\n\n<p>All proceeds will go to the&nbsp\;<a href="http://www.camaraderiefoundation.org/" rel="nofollow noopener noreferrer" style="box-sizing: inherit\; background-color: transparent\; color: rgb(56\, 126\, 153)\; text-decoration-line: none\;" target="_blank">Camaraderie Foundation</a>. We provide healing for the &quot\;invisible wounds of war&quot\; through counseling\, emotional and spiritual support for Post 9/11 Veterans\, Service Members and their families.</p>\n\n<p>Participants in this Ruck Sack Race will receive the following benefits:</p>\n\n<ul>\n	<li>Unique Finishing Medal</li>\n	<li>Race Shirt</li>\n	<li>Discount code for tickets to Sea World Orlando</li>\n	<li>Opportunity to win an award medal as a top 3 finisher in the Male/Female and Male/Female Ruck Sack Warrior categories</li>\n</ul>\nRegistration opens at 6AM and race begins at 7AM.&nbsp\;<br />\nFor more information or to register visit:&nbsp\;<a href="https://runsignup.com/Race/FL/Orlando/RSRORL">https://runsignup.com/Race/FL/Orlando/RSRORL&nbsp\;</a>
LOCATION:Sea World Orlando: 7007 Sea World Dr.\, Orlando\, FL 32821
UID:e.2008.13630
SEQUENCE:3
DTSTAMP:20260420T013306Z
URL:https://business.eocc.org/events/details/ruck-sack-race-5k-13630
END:VEVENT

END:VCALENDAR
