BEGIN:VCALENDAR
VERSION:2.0
PRODID:-//ChamberMaster//Event Calendar 2.0//EN
METHOD:PUBLISH
X-PUBLISHED-TTL:P3D
REFRESH-INTERVAL:P3D
CALSCALE:GREGORIAN
BEGIN:VEVENT
DTSTART:20161020T040000Z
DTEND:20161118T050000Z
X-MICROSOFT-CDO-ALLDAYEVENT:FALSE
SUMMARY:Seacoast Bank Food Drive
DESCRIPTION:Help make this holiday season plentiful for all! By donating Non-Perishable foods such as canned meats\, soups\, canned fruits\, vegetables\, and rice so we can help feed local families in need.\n\n\n\nDrop your donation off to any Seacoast Bank branch by Friday\, November 18th.
X-ALT-DESC;FMTTYPE=text/html:Help make this holiday season plentiful for all! By donating Non-Perishable foods such as canned meats\, soups\, canned fruits\, vegetables\, and rice so we can&nbsp\;help feed local families in need.<br />\n<br />\nDrop your donation off to any Seacoast Bank branch by Friday\, November 18th.<br />\n&nbsp\;
LOCATION:
UID:e.2008.5365
SEQUENCE:3
DTSTAMP:20260425T162356Z
URL:https://business.eocc.org/events/details/seacoast-bank-food-drive-5365
END:VEVENT

END:VCALENDAR
