BEGIN:VCALENDAR
VERSION:2.0
PRODID:-//ChamberMaster//Event Calendar 2.0//EN
METHOD:PUBLISH
X-PUBLISHED-TTL:P3D
REFRESH-INTERVAL:P3D
CALSCALE:GREGORIAN
BEGIN:VEVENT
DTSTART:20161112T123000Z
DTEND:20161112T170000Z
X-MICROSOFT-CDO-ALLDAYEVENT:FALSE
SUMMARY:Step Out: Walk to Stop Diabetes
DESCRIPTION:Step Out: Walk to Stop Diabetes is an event to support the American Diabetes Association and Our Mission to prevent and cure diabetes and to improve the lives of all people affected by diabetes. Join over 2000+ participants as we raise awareness for diabetes in the Central Florida community.
X-ALT-DESC;FMTTYPE=text/html:Step Out: Walk to Stop Diabetes is an event to support the American Diabetes Association and Our Mission to prevent and cure diabetes and to improve the lives of all people affected by diabetes. Join over 2000+ participants as we raise awareness for diabetes in the Central Florida community.
LOCATION:Bill Frederick Park at Turkey Lake
UID:e.2008.4970
SEQUENCE:3
DTSTAMP:20260425T162341Z
URL:https://business.eocc.org/events/details/step-out-walk-to-stop-diabetes-11-12-2016-4970
END:VEVENT

END:VCALENDAR
