BEGIN:VCALENDAR
VERSION:2.0
PRODID:-//ChamberMaster//Event Calendar 2.0//EN
METHOD:PUBLISH
X-PUBLISHED-TTL:P3D
REFRESH-INTERVAL:P3D
CALSCALE:GREGORIAN
BEGIN:VEVENT
DTSTART:20160516T150000Z
DTEND:20160517T010000Z
X-MICROSOFT-CDO-ALLDAYEVENT:FALSE
SUMMARY:Stick a Fork in Cancer with The Meatball Stoppe
DESCRIPTION:The Meatball Stoppe is going to "Stick a Fork in Cancer" Monday\, May 16\, 2016 offering 10% of sales to the American Cancer Society.  Please join them by dining in or taking out from this wonderful community partner and chamber member.  \n\n\n\nDesign your own savory meatball experience\, or try one of their Family Favorite Combinations.  Either way you can not go wrong!  Choose your style\, your meatball\, your sauce & enjoy!  Check out their menu.  The Meatball Stoppe is located at 7325 Lake Underhill Road\, Orlando\, FL 32822 and open from 11 AM - 9 PM.  Give them a call to place your order (407.270.6505) or load the car and bring the family.  As Isabella Morgia says\, "Famiglia & Love all Rolled Up"!
X-ALT-DESC;FMTTYPE=text/html:<a href="http://www.themeatballstoppe.com/">The Meatball Stoppe</a> is going to &quot\;Stick a Fork in Cancer&quot\; Monday\, May 16\, 2016 offering 10% of sales to the American Cancer Society. &nbsp\;Please join them by dining in or taking out from this wonderful community partner and chamber member. &nbsp\;<br />\n<br />\nDesign your own savory meatball experience\, or try one of their Family Favorite Combinations. &nbsp\;Either way you can not go wrong! &nbsp\;Choose your style\, your meatball\, your sauce &amp\; enjoy! &nbsp\;Check out their <a href="http://www.unos.com/?utm_source=google&amp\;utm_medium=local&amp\;utm_campaign=localmaps&amp\;utm_content=964">menu</a>. &nbsp\;The Meatball Stoppe is located at 7325 Lake Underhill Road\, Orlando\, FL 32822 and open from 11 AM - 9 PM. &nbsp\;Give them a call to place your order (407.270.6505) or load the car and bring the family. &nbsp\;As Isabella Morgia says\, &quot\;Famiglia &amp\; Love all Rolled Up&quot\;! &nbsp\;
LOCATION:7325 Lake Underhill Road\, Orlando\, FL 32822
UID:e.2008.5010
SEQUENCE:3
DTSTAMP:20260426T001809Z
URL:https://business.eocc.org/events/details/stick-a-fork-in-cancer-with-the-meatball-stoppe-05-16-2016-5010
END:VEVENT

END:VCALENDAR
