BEGIN:VCALENDAR
VERSION:2.0
PRODID:-//ChamberMaster//Event Calendar 2.0//EN
METHOD:PUBLISH
X-PUBLISHED-TTL:P3D
REFRESH-INTERVAL:P3D
CALSCALE:GREGORIAN
BEGIN:VEVENT
DTSTART;VALUE=DATE:20161120
DTEND;VALUE=DATE:20170104
TRANSP:TRANSPARENT
X-MICROSOFT-CDO-ALLDAYEVENT:TRUE
SUMMARY:Subaru South Orlando Share the Love
DESCRIPTION:With every new Subaru purchased or leased from November 17 - Janurary 3\, Subaru will donate $250 to 1 of 5 of chairites that beneft our local community. ASPCA\, Make-A-Wish\, Meals on Wheels\, National Park Foundation\, and Boys & Girls Club of Central Florida are our list of chairities this years. Our local charity of choice is Boys & Girls Club of Central Florida and their gardening program. 5 days a week\, this club feeds all their children with fresh vegetables and herbs grown in this garden. Help us to support this program and give back to our local community.
X-ALT-DESC;FMTTYPE=text/html:<span style="background-color:rgb(255\, 255\, 255)\; color:rgb(75\, 79\, 86)\; font-family:san francisco\,-apple-system\,blinkmacsystemfont\,.sfnstext-regular\,sans-serif\; font-size:14px">With every new Subaru purchased or leased from November 17 - Janurary 3\, Subaru will donate $250 to 1 of 5 of chairites that beneft our local community. ASPCA\, Make-A-Wish\, Meals on Wheels\, National Park Foundation\, and Boys &amp\; Girls Club of Central Florida are our list of chairities this years. Our local charity of choice is Boys &amp\; Girls Club of Central Florida and their gardening program. 5 days a week\, this club feeds all their children with fresh vegetables and herbs grown in this garden. Help us to support this program and give back to our local community.</span>
LOCATION:Subaru South Orlando 9951 South Orange Blossom Trail Orlando\, Fl 32837
UID:e.2008.6411
SEQUENCE:3
DTSTAMP:20260425T140024Z
URL:https://business.eocc.org/events/details/subaru-south-orlando-share-the-love-6411
END:VEVENT

END:VCALENDAR
