BEGIN:VCALENDAR
VERSION:2.0
PRODID:-//ChamberMaster//Event Calendar 2.0//EN
METHOD:PUBLISH
X-PUBLISHED-TTL:P3D
REFRESH-INTERVAL:P3D
CALSCALE:GREGORIAN
BEGIN:VEVENT
DTSTART:20161118T203000Z
DTEND:20161118T233000Z
X-MICROSOFT-CDO-ALLDAYEVENT:FALSE
SUMMARY:Thanksgiving Giveaway
DESCRIPTION:Thanksgiving Giveaway\nWe will providing canned goods for participants on a first come first serve basis\, while supplies last.
X-ALT-DESC;FMTTYPE=text/html:<div style="text-align: center\;">Thanksgiving Giveaway</div>\nWe will providing canned goods for participants on a first come first serve basis\, while supplies last.
LOCATION:East Orange Community Center 12050 E. Colonial Dr. Orlando FL 32826
UID:e.2008.5395
SEQUENCE:3
DTSTAMP:20260425T162212Z
URL:https://business.eocc.org/events/details/thanksgiving-giveaway-5395
END:VEVENT

END:VCALENDAR
