BEGIN:VCALENDAR
VERSION:2.0
PRODID:-//ChamberMaster//Event Calendar 2.0//EN
METHOD:PUBLISH
X-PUBLISHED-TTL:P3D
REFRESH-INTERVAL:P3D
CALSCALE:GREGORIAN
BEGIN:VEVENT
DTSTART:20171007T140000Z
DTEND:20171007T180000Z
X-MICROSOFT-CDO-ALLDAYEVENT:FALSE
SUMMARY:The Tradition Continues: UCP Downtown/BETA Expansion Celebration
DESCRIPTION:Food! Games! Entertainment! Fun for all ages!\n\nCome join UCP of Central Florida for the Expansion Celebration of the Downtown/BETA Campus! With a brand new KaBOOM! playground and building renovations\, we have much to celebrate!\n\n\n\nThere will be a ribbon cutting ceremony at 11:00 am as well as lunch and activities for the family throughout the day - including a firsthand look at all of the new improvements!\n\nRSVP by September 23\, 2017
X-ALT-DESC;FMTTYPE=text/html:<h1 style="text-align:center">Food! Games! Entertainment! Fun for all ages!</h1>\n\n<p style="text-align:center">Come join UCP of Central Florida for the Expansion Celebration of the Downtown/BETA Campus! With a brand new KaBOOM! playground and building renovations\, we have much to celebrate!<br />\n<br />\nThere will be a ribbon cutting ceremony at 11:00 am as well as lunch and activities for the family throughout the day - including a firsthand look at all of the new improvements!</p>\n\n<p style="text-align:center"><em>RSVP by September 23\, 2017</em></p>\n
LOCATION:4680 Lake Underhill Road Orlando\, FL 32806
UID:e.2008.7724
SEQUENCE:3
DTSTAMP:20260421T081926Z
URL:https://business.eocc.org/events/details/the-tradition-continues-ucp-downtown-beta-expansion-celebration-7724
END:VEVENT

END:VCALENDAR
