BEGIN:VCALENDAR
VERSION:2.0
PRODID:-//ChamberMaster//Event Calendar 2.0//EN
METHOD:PUBLISH
X-PUBLISHED-TTL:P3D
REFRESH-INTERVAL:P3D
CALSCALE:GREGORIAN
BEGIN:VEVENT
DTSTART:20200208T140000Z
DTEND:20200208T180000Z
X-MICROSOFT-CDO-ALLDAYEVENT:FALSE
SUMMARY:True Health Job Fair
DESCRIPTION:True Health is hosting a job fair on Saturday\, February 8\, 2020. Dress your best\, bring your resume\, personal identification\, and be ready to introduce yourself to our True Health employers! To secure your spot\, please visit our company website at  MyTrueHealth.org and click on the Career Center or email your resume to our Human Resources Department at HR@MyTrueHealth.org.\n\n\n\nCurrent Openings: \n\n	Primary Care Physicians Nurse Practitioners\n	Executive Assistant \n	Licensed Practical Nurses Medical Assistants \n	Registered Pharmacy Technicians \n	IT Technician III\n	Credentialing Coordinator Medical Schedulers\n	Patient Service Representatives\n	Training Support Specialist\n	System Administrator\n	Certified Medical Coders\n	Billing Coordinators\n	Dental Coordinator\n\n\n\n\nExperience the benefits of working with True Health: \n\n\n	Robust work-life balance Coverage through the Federal Tort Claims Act (FTCA)\n	Comprehensive Continued Medical Education (CME) program\n	Proud partner with the National Health Service Corps (NHSC)\n	Generous paid time off\n	Convenient locations throughout Central Florida \n	Tuition reimbursement\n	Discounted healthcare services \n	10 paid holidays \n	 Health Insurance \n	403(b) Retirement Plan
X-ALT-DESC;FMTTYPE=text/html:<strong>True Health is hosting a job fair on Saturday\, February 8\, 2020</strong>. Dress your best\, bring your resume\, personal identification\, and be ready to introduce yourself to our True Health employers! To secure your spot\, please visit our company website at&nbsp\; MyTrueHealth.org and click on the Career Center or email your resume to our Human Resources Department at HR@MyTrueHealth.org.<br />\n<br />\n<strong>Current Openings:&nbsp\;</strong>\n<ul>\n	<li>Primary Care Physicians Nurse Practitioners</li>\n	<li>Executive Assistant&nbsp\;</li>\n	<li>Licensed Practical Nurses Medical Assistants&nbsp\;</li>\n	<li>Registered Pharmacy Technicians&nbsp\;</li>\n	<li>IT Technician III</li>\n	<li>Credentialing Coordinator Medical Schedulers</li>\n	<li>Patient Service Representatives</li>\n	<li>Training Support Specialist</li>\n	<li>System Administrator</li>\n	<li>Certified Medical Coders</li>\n	<li>Billing Coordinators</li>\n	<li>Dental Coordinator</li>\n</ul>\n\n<div><br />\n<strong>Experience the benefits of working with True Health:&nbsp\;</strong></div>\n\n<ul>\n	<li>Robust work-life balance Coverage through the Federal Tort Claims Act (FTCA)</li>\n	<li>Comprehensive Continued Medical Education (CME) program</li>\n	<li>Proud partner with the National Health Service Corps (NHSC)</li>\n	<li>Generous paid time off</li>\n	<li>Convenient locations throughout Central Florida&nbsp\;</li>\n	<li>Tuition reimbursement</li>\n	<li>Discounted healthcare services&nbsp\;</li>\n	<li>10 paid holidays&nbsp\;</li>\n	<li>&nbsp\;Health Insurance&nbsp\;</li>\n	<li>403(b) Retirement Plan</li>\n</ul>\n
LOCATION:4930 E. Lake Mary Blvd. Sanford\, FL 32771 or 5730 Lake Underhill Rd. Orlando\, Fl 32807
UID:e.2008.12341
SEQUENCE:3
DTSTAMP:20260421T082100Z
URL:https://business.eocc.org/events/details/true-health-job-fair-12341
END:VEVENT

END:VCALENDAR
