BEGIN:VCALENDAR
VERSION:2.0
PRODID:-//ChamberMaster//Event Calendar 2.0//EN
METHOD:PUBLISH
X-PUBLISHED-TTL:P3D
REFRESH-INTERVAL:P3D
CALSCALE:GREGORIAN
BEGIN:VEVENT
DTSTART:20161116T170000Z
DTEND:20161116T180000Z
X-MICROSOFT-CDO-ALLDAYEVENT:FALSE
SUMMARY:Trustco Bank Lunch and Learn
DESCRIPTION:Realtors\, join us for a Lunch and Learn at Duffy's in Waterford Lakes. See what Trustco Bank has to offer your clients!
X-ALT-DESC;FMTTYPE=text/html:Realtors\, join us for a Lunch and Learn at Duffy&#39\;s in Waterford Lakes. See what Trustco Bank has to offer your clients!
LOCATION:Duffy's Sports Grill 315 North Alafaya Trail Orlando\, Fl 32828
UID:e.2008.5394
SEQUENCE:3
DTSTAMP:20260425T162233Z
URL:https://business.eocc.org/events/details/trustco-bank-lunch-and-learn-5394
END:VEVENT

END:VCALENDAR
