BEGIN:VCALENDAR
VERSION:2.0
PRODID:-//ChamberMaster//Event Calendar 2.0//EN
METHOD:PUBLISH
X-PUBLISHED-TTL:P3D
REFRESH-INTERVAL:P3D
CALSCALE:GREGORIAN
BEGIN:VEVENT
DTSTART:20160219T123000Z
DTEND:20160219T140000Z
X-MICROSOFT-CDO-ALLDAYEVENT:FALSE
SUMMARY:#UCFBusiness Dean's Speaker Series with Michael Pape
DESCRIPTION:"The Startup Staircase  "\n\nFrom Pharmaceuticals to Shoelaces \n\nThe Essential Steps in Building a Successful Business\n"The Startup Staircase". From pharmaceuticals to shoelaces\, Michael Pape\, Ph.D will touch on the essential steps to building a successful business. The Dean's Speaker Series\, sponsored by CFE Federal Credit Union\, is a monthly opportunity from the UCF College of Business to learn about the provocative and new programs that our world- class faculty are spearheading\, researching and teaching. This is an opportunity to be out on the edge of new business ideas and network with other business leaders in our community. Seating is limited and the program is sure to sell out. Thank you for your support.
X-ALT-DESC;FMTTYPE=text/html:<h3 style="text-align: center\;"><strong>&ldquo\;The Startup Staircase &reg\;&rdquo\;</strong></h3>\n\n<h4 style="text-align: center\;"><strong>From Pharmaceuticals to Shoelaces&hellip\;<br />\nThe Essential Steps in Building a Successful Business</strong></h4>\n&quot\;The Startup Staircase&quot\;. From pharmaceuticals to shoelaces\, Michael Pape\, Ph.D will touch on the essential steps to building a successful business. The Dean&#39\;s Speaker Series\, sponsored by CFE Federal Credit Union\, is a monthly opportunity from the UCF College of Business to learn about the provocative and new programs that our world- class faculty are spearheading\, researching and teaching. This is an opportunity to be out on the edge of new business ideas and network with other business leaders in our community. Seating is limited and the program is sure to sell out. Thank you for your support.
LOCATION:Citrus Club Orlando 255 South Orange Avenue Suite 1800 Orlando\, FL 32801
UID:e.2008.4695
SEQUENCE:3
DTSTAMP:20260426T032612Z
URL:https://business.eocc.org/events/details/ucfbusiness-dean-s-speaker-series-with-michael-pape-02-19-2016-4695
END:VEVENT

END:VCALENDAR
