BEGIN:VCALENDAR
VERSION:2.0
PRODID:-//ChamberMaster//Event Calendar 2.0//EN
METHOD:PUBLISH
X-PUBLISHED-TTL:P3D
REFRESH-INTERVAL:P3D
CALSCALE:GREGORIAN
BEGIN:VEVENT
DTSTART:20140421T203000Z
DTEND:20140421T210000Z
X-MICROSOFT-CDO-ALLDAYEVENT:FALSE
SUMMARY:Vision Committee Meeting
DESCRIPTION:Carries on the work of the original East Orlando Visioning Study that was published in 2003. This committee coordinates the Chamber's annual Visioning Event and the our monthly luncheon program. The group meets year round.
X-ALT-DESC;FMTTYPE=text/html:<div style="text-align: justify\;"><span style="font-size:12px\;"><span style="color: rgb(0\, 0\, 0)\; font-family: Arial\; font-style: normal\; font-variant: normal\; font-weight: normal\; letter-spacing: normal\; line-height: normal\; text-align: justify\; text-indent: 0px\; text-transform: none\; white-space: normal\; word-spacing: 0px\; background-color: rgb(255\, 255\, 255)\; display: inline ! important\; float: none\;">Carries on the work of the original East Orlando Visioning Study that was published in 2003. This committee coordinates the Chamber&rsquo\;s annual Visioning Event and the our monthly luncheon program. The group meets year round. </span></span></div>\n
LOCATION:CONFERENCE CALL ONLY... Contact Chamber office for Call information
UID:e.2008.1587
SEQUENCE:3
DTSTAMP:20260421T063803Z
URL:https://business.eocc.org/events/details/vision-committee-meeting-04-21-2014-1587
END:VEVENT

END:VCALENDAR
