BEGIN:VCALENDAR
VERSION:2.0
PRODID:-//ChamberMaster//Event Calendar 2.0//EN
METHOD:PUBLISH
X-PUBLISHED-TTL:P3D
REFRESH-INTERVAL:P3D
CALSCALE:GREGORIAN
BEGIN:VEVENT
DTSTART:20210827T130000Z
DTEND:20210827T173000Z
X-MICROSOFT-CDO-ALLDAYEVENT:FALSE
SUMMARY:Visit Orlando Business Insights Luncheon
DESCRIPTION:Economic Forum Registration & Member Connect: 9:00am - 10:00am\n\nEconomic Forum: 10:00am   11:15am\n\nLuncheon Registration & Member Connect: 11:00am - 12:00pm\n\nBusiness Insights Luncheon: 12:00pm   1:30pm
X-ALT-DESC;FMTTYPE=text/html:<span style="font-size:14px\;"><span style="font-family:arial\;"><span style="color: rgb(0\, 0\, 0)\;">Economic Forum Registration &amp\; Member Connect: 9:00am - 10:00am</span><br style="box-sizing: border-box\; color: rgb(0\, 0\, 0)\; font-family: calibri\, sans-serif\; font-size: 22px\;" />\n<span style="color: rgb(0\, 0\, 0)\;">Economic Forum: 10:00am &ndash\; 11:15am</span><br style="box-sizing: border-box\; color: rgb(0\, 0\, 0)\; font-family: calibri\, sans-serif\; font-size: 22px\;" />\n<span style="color: rgb(0\, 0\, 0)\;">Luncheon Registration &amp\; Member Connect: 11:00am - 12:00pm</span><br style="box-sizing: border-box\; color: rgb(0\, 0\, 0)\; font-family: calibri\, sans-serif\; font-size: 22px\;" />\n<span style="color: rgb(0\, 0\, 0)\;">Business Insights Luncheon: 12:00pm&nbsp\;&ndash\; 1:30pm</span></span></span>
LOCATION:Friday\, August 27\, 2021 Hilton Orlando 6001 Destination Parkway Orlando\, FL 32819
UID:e.2008.13476
SEQUENCE:3
DTSTAMP:20260420T142652Z
URL:https://business.eocc.org/events/details/visit-orlando-business-insights-luncheon-13476
END:VEVENT

END:VCALENDAR
