BEGIN:VCALENDAR
VERSION:2.0
PRODID:-//ChamberMaster//Event Calendar 2.0//EN
METHOD:PUBLISH
X-PUBLISHED-TTL:P3D
REFRESH-INTERVAL:P3D
CALSCALE:GREGORIAN
BEGIN:VEVENT
DTSTART:20210827T160000Z
DTEND:20210827T160000Z
X-MICROSOFT-CDO-ALLDAYEVENT:FALSE
SUMMARY:Visit Orlando's Magical Dining
DESCRIPTION:Visit Orlando's Magical Dining.\n\nFrom Aug. 27   Oct. 3\, more than 80 of Orlando's fine dining restaurants will offer a $37 three-course\, prix-fixe dinner menu. Menus for most participating restaurants are now live at MagicalDining.com so diners can plan\, make reservations\, and explore exclusive hotel offers as part of the new Magical Nights program enhancement. This year's donated funds will focus on two organizations   Pathlight HOME and IDignity   that help combat homelessness in Central Florida and facilitate access to necessary services.
X-ALT-DESC;FMTTYPE=text/html:<span style="font-family:calibri\,sans-serif\;"><span style="font-size:10.0pt\;"><a href="https://www.magicaldining.com/"><strong><span style="font-size:12.0pt\;">Visit Orlando&rsquo\;s Magical Dining</span></strong></a></span></span><span style="font-family:calibri\,sans-serif\;"><span style="font-size:12.0pt\;">.<br />\nFrom Aug. 27 &ndash\; Oct. 3\, more than 80 of Orlando&rsquo\;s fine dining restaurants will offer a $37 three-course\, prix-fixe dinner menu. Menus for most participating restaurants are now live at MagicalDining.com so diners can plan\, make reservations\, and explore exclusive hotel offers as part of the new Magical Nights program enhancement. This year&#39\;s donated funds will focus on two organizations &ndash\; Pathlight HOME and IDignity &ndash\; that help combat homelessness in Central Florida and facilitate access to necessary services.&nbsp\;</span></span>
LOCATION:Download Visit Orlando's Magical Dining Restaurant List and Map
UID:e.2008.13477
SEQUENCE:3
DTSTAMP:20260420T111451Z
URL:https://business.eocc.org/events/details/visit-orlando-s-magical-dining-13477
END:VEVENT

END:VCALENDAR
