BEGIN:VCALENDAR
VERSION:2.0
PRODID:-//ChamberMaster//Event Calendar 2.0//EN
METHOD:PUBLISH
X-PUBLISHED-TTL:P3D
REFRESH-INTERVAL:P3D
CALSCALE:GREGORIAN
BEGIN:VEVENT
DTSTART:20200205T163000Z
DTEND:20200205T180000Z
X-MICROSOFT-CDO-ALLDAYEVENT:FALSE
SUMMARY:W.I.S.E. (Women in Successful Endeavors) Business Women Networking Brunch
DESCRIPTION:W.I.S.E. (Women in Successful Endeavors) is Women supporting Women quarterly networking brunch focused on guiding members to improve confidence\, self-esteem\, building relationships\, cultivate determination and elevate potential.  \n\n\n\nMary Rodgers\, Assistant Vice President\, Orlando Health and Chief Nursing Officer\, Orlando Health Arnold Palmer Hospital for Children will present during our February event. \n\n\n\nJoin us to enjoy a unique bunch experience and timely topics to help with your personal and professional development.
X-ALT-DESC;FMTTYPE=text/html:W.I.S.E. (Women in Successful Endeavors) is Women supporting Women quarterly networking brunch focused on guiding members to improve confidence\, self-esteem\, building relationships\, cultivate determination and elevate potential.&nbsp\;&nbsp\;<br />\n<br />\nMary Rodgers\, Assistant Vice President\, Orlando Health and Chief Nursing Officer\, Orlando Health Arnold Palmer Hospital for Children will present during our February event.&nbsp\;<br />\n<br />\nJoin us to enjoy a unique bunch experience and timely topics to help with your personal and professional development.&nbsp\;&nbsp\;
LOCATION:The Lemon Lily Tea Room 1954 W State Road 426\, Ste. 1106 Oviedo\, FL 32765
UID:e.2008.11050
SEQUENCE:3
DTSTAMP:20260422T231237Z
URL:https://business.eocc.org/events/details/w-i-s-e-women-in-successful-endeavors-business-women-networking-brunch-11050
END:VEVENT

END:VCALENDAR
