BEGIN:VCALENDAR
VERSION:2.0
PRODID:-//ChamberMaster//Event Calendar 2.0//EN
METHOD:PUBLISH
X-PUBLISHED-TTL:P3D
REFRESH-INTERVAL:P3D
CALSCALE:GREGORIAN
BEGIN:VEVENT
DTSTART:20161116T150000Z
DTEND:20161117T000000Z
X-MICROSOFT-CDO-ALLDAYEVENT:FALSE
SUMMARY:Wellness Wednesday with Florida Blue
DESCRIPTION:Join us for a day full of activities to boost your health! Hosted in partnership with GuideWell Emergency Doctors. 10:00 am- Diabetes Academy Workshop: Join this free class from a Diabetes Educator to help you learn about managing diabetes. Learn important information about diabetes\, as well as tips for eating healthy and staying active. 12:00 pm- Brain Health Lunch & Learn: Join this interactive workshop from BrainFlex Wellness Club to exercise your mind! Complimentary lunch provided\, please RSVP. 1:00 pm- Lung Cancer Awareness Chat: Learn more about Lung Cancer Awareness Month and what resources the American Lung Association offers 1:00-3:00 pm- Meet Your Nurse for a BMI Screening and discuss how to keep your lungs healthy 6:00-7:00 pm- Free Zumba Class!
X-ALT-DESC;FMTTYPE=text/html:Join us for a day full of activities to boost your health! Hosted in partnership with GuideWell Emergency Doctors. 10:00 am- Diabetes Academy Workshop: Join this free class from a Diabetes Educator to help you learn about managing diabetes. Learn important information about diabetes\, as well as tips for eating healthy and staying active. 12:00 pm- Brain Health Lunch &amp\; Learn: Join this interactive workshop from BrainFlex Wellness Club to exercise your mind! Complimentary lunch provided\, please RSVP. 1:00 pm- Lung Cancer Awareness Chat: Learn more about Lung Cancer Awareness Month and what resources the American Lung Association offers 1:00-3:00 pm- Meet Your Nurse for a BMI Screening and discuss how to keep your lungs healthy 6:00-7:00 pm- Free Zumba Class!
LOCATION:Florida Blue Center 434 N. Orlando Ave. Winter Park\, Fl 32789
UID:e.2008.5366
SEQUENCE:3
DTSTAMP:20260425T162233Z
URL:https://business.eocc.org/events/details/wellness-wednesday-with-florida-blue-5366
END:VEVENT

END:VCALENDAR
