BEGIN:VCALENDAR
VERSION:2.0
PRODID:-//ChamberMaster//Event Calendar 2.0//EN
METHOD:PUBLISH
X-PUBLISHED-TTL:P3D
REFRESH-INTERVAL:P3D
CALSCALE:GREGORIAN
BEGIN:VEVENT
DTSTART:20200331T130000Z
DTEND:20200331T140000Z
X-MICROSOFT-CDO-ALLDAYEVENT:FALSE
SUMMARY:What you need to get set up on Telehealth in 24 hours!
DESCRIPTION:Telemedicine and technology are crucial ways to deliver care and keep healthcare workers\, patients and vulnerable populations safe\, especially amid the COVID-19 pandemic.    Join us as Integrity Marketing shows you "What you need to get set up on Telehealth in 24 hours".  This meeting is a huge investment in your practice!
X-ALT-DESC;FMTTYPE=text/html:Telemedicine and technology are crucial ways to deliver care and keep healthcare workers\, patients and vulnerable populations safe\, especially amid the COVID-19 pandemic.&nbsp\; &nbsp\; Join us as Integrity Marketing shows you &quot\;What you need to get set up on Telehealth in 24 hours&quot\;.&nbsp\; This meeting is a huge investment in your practice!
LOCATION:Please register to access the Call in Number and Pass code. Register Here GoToMeeting
UID:e.2008.12637
SEQUENCE:3
DTSTAMP:20260422T181231Z
URL:https://business.eocc.org/events/details/what-you-need-to-get-set-up-on-telehealth-in-24-hours-12637
END:VEVENT

END:VCALENDAR
