BEGIN:VCALENDAR
VERSION:2.0
PRODID:-//ChamberMaster//Event Calendar 2.0//EN
METHOD:PUBLISH
X-PUBLISHED-TTL:P3D
REFRESH-INTERVAL:P3D
CALSCALE:GREGORIAN
BEGIN:VEVENT
DTSTART:20160511T160000Z
DTEND:20160511T210000Z
X-MICROSOFT-CDO-ALLDAYEVENT:FALSE
SUMMARY:Women's Health Day
DESCRIPTION:Join our Orlando center in getting healthy for National Women?s Health Week! Meet our Florida Blue nurse any time from 12:00-5:00 pm for free resources and giveaways related to women's health. Learn how to save a life with CPR Class from 5:00-6:00 pm (cost is $30 payable to Erik Helms).
X-ALT-DESC;FMTTYPE=text/html:Join our Orlando center in getting healthy for National Women?s Health Week! Meet our Florida Blue nurse any time from 12:00-5:00 pm for free resources and giveaways related to women&#39\;s health. Learn how to save a life with CPR Class from 5:00-6:00 pm (cost is $30 payable to Erik Helms).
LOCATION:Florida Blue Orlando 434 N. Orlando Ave Winter Park\, FL 32789
UID:e.2008.4979
SEQUENCE:3
DTSTAMP:20260426T001810Z
URL:https://business.eocc.org/events/details/women-s-health-day-05-11-2016-4979
END:VEVENT

END:VCALENDAR
